BEGIN:VCALENDAR
PRODID:-//eluceo/ical//2.0/EN
VERSION:2.0
CALSCALE:GREGORIAN
BEGIN:VEVENT
UID:29f73a5cf254be62b5beb49634fc5c7b
DTSTAMP:20260423T232234Z
SUMMARY:InfoComm
DESCRIPTION:InfoComm is the largest\, most exciting event in North America 
 focused on the pro-AV industry. \nIt is the most comprehensive event for a
 udiovisual solutions that enable integrated experiences\, with products fo
 r audio\, conferencing and collaboration\, digital signage\, content\, pro
 duction and streaming\, video capture and production\, control\, and live 
 events.\n\n
URL:mailto:sales.us@gdsys.com?subject=InfoComm%20Meeting%20request
DTSTART;TZID=Europe/Berlin:20260617T000000
DTEND;TZID=Europe/Berlin:20260619T230000
LOCATION:Las Vegas\, Nevada
END:VEVENT
END:VCALENDAR
