BEGIN:VCALENDAR
PRODID:-//eluceo/ical//2.0/EN
VERSION:2.0
CALSCALE:GREGORIAN
BEGIN:VEVENT
UID:e4a3c201b6ae607b94465c933a3797bc
DTSTAMP:20260424T150332Z
SUMMARY:NAB Show NY
DESCRIPTION:NAB Show New York offers the perfect place for a get-together o
 f the broadcast\, media and entertainment industry. Have interesting conve
 rsations\, gain new perspectives\, and discover the latest products and ap
 plications on the market.
URL:mailto:sales.us@gdsys.com?subject=NAB%20Show%20NY%20Meeting%20request
DTSTART;TZID=Europe/Berlin:20261021T000000
DTEND;TZID=Europe/Berlin:20261022T230000
LOCATION:New York
END:VEVENT
END:VCALENDAR
